BEGIN:VCALENDAR
VERSION:2.0
PRODID:-//Tukios.com/
BEGIN:VEVENT
UID:71429c06-eb77-4753-8601-4ff132987edb@www.bainbridgefuneralhome.com
DTSTAMP:20260420T054156Z
DTSTART:20260521T220000Z
DTEND:20260522T000000Z
SUMMARY:Visitation
DESCRIPTION:
URL:https://www.bainbridgefuneralhome.com/obituaries/richard-kapphahn
LOCATION: 106 10th St N  Wheaton MN 56296
GEO:45.8060091;-96.4966999
END:VEVENT
END:VCALENDAR