BEGIN:VCALENDAR
VERSION:2.0
PRODID:-//Tukios.com/
BEGIN:VEVENT
UID:9e0a0b7e-229e-40d2-980d-9d9fd9d6b04f@www.bainbridgefuneralhome.com
DTSTAMP:20260420T054119Z
DTSTART:20260521T233000Z
DTEND:20260522T003000Z
SUMMARY:Time of Sharing
DESCRIPTION:
URL:https://www.bainbridgefuneralhome.com/obituaries/richard-kapphahn
LOCATION: 106 10th St N  Wheaton MN 56296
GEO:45.8060091;-96.4966999
END:VEVENT
END:VCALENDAR