BEGIN:VCALENDAR
VERSION:2.0
PRODID:-//Tukios.com/
BEGIN:VEVENT
UID:caf01a4e-dea9-46f8-ace7-91dd0f331216@www.bainbridgefuneralhome.com
DTSTAMP:20260420T054534Z
DTSTART:20260522T150000Z
DTEND:20260522T160000Z
SUMMARY:Visitation
DESCRIPTION:
URL:https://www.bainbridgefuneralhome.com/obituaries/richard-kapphahn
LOCATION: 106 10th St N  Wheaton MN 56296
GEO:45.8060091;-96.4966999
END:VEVENT
END:VCALENDAR