BEGIN:VCALENDAR
VERSION:2.0
PRODID:-//Tukios.com/
BEGIN:VEVENT
UID:17d2ab81-b334-4849-a2fd-5b456157649c@www.bainbridgefuneralhome.com
DTSTAMP:20260420T055016Z
DTSTART:20260522T160000Z
DTEND:20260522T170000Z
SUMMARY:Celebration of Life
DESCRIPTION:
URL:https://www.bainbridgefuneralhome.com/obituaries/richard-kapphahn
LOCATION: 106 10th St N  Wheaton MN 56296
GEO:45.8060091;-96.4966999
END:VEVENT
END:VCALENDAR